BEGIN:VCALENDAR
PRODID:-//Ben Fortuna//iCal4j 1.0//EN
VERSION:2.0
CALSCALE:GREGORIAN
BEGIN:VTIMEZONE
TZID:Europe/Berlin
LAST-MODIFIED:20201010T011803Z
TZURL:http://tzurl.org/zoneinfo/Europe/Berlin
X-LIC-LOCATION:Europe/Berlin
X-PROLEPTIC-TZNAME:LMT
BEGIN:STANDARD
TZNAME:CET
TZOFFSETFROM:+005328
TZOFFSETTO:+0100
DTSTART:18930401T000000
END:STANDARD
BEGIN:DAYLIGHT
TZNAME:CEST
TZOFFSETFROM:+0100
TZOFFSETTO:+0200
DTSTART:19160430T230000
RDATE:19400401T020000
RDATE:19430329T020000
RDATE:19460414T020000
RDATE:19470406T030000
RDATE:19480418T020000
RDATE:19490410T020000
RDATE:19800406T020000
END:DAYLIGHT
BEGIN:STANDARD
TZNAME:CET
TZOFFSETFROM:+0200
TZOFFSETTO:+0100
DTSTART:19161001T010000
RDATE:19421102T030000
RDATE:19431004T030000
RDATE:19441002T030000
RDATE:19451118T030000
RDATE:19461007T030000
END:STANDARD
BEGIN:DAYLIGHT
TZNAME:CEST
TZOFFSETFROM:+0100
TZOFFSETTO:+0200
DTSTART:19170416T020000
RRULE:FREQ=YEARLY;UNTIL=19180415T010000Z;BYMONTH=4;BYDAY=3MO
END:DAYLIGHT
BEGIN:STANDARD
TZNAME:CET
TZOFFSETFROM:+0200
TZOFFSETTO:+0100
DTSTART:19170917T030000
RRULE:FREQ=YEARLY;UNTIL=19180916T010000Z;BYMONTH=9;BYDAY=3MO
END:STANDARD
BEGIN:DAYLIGHT
TZNAME:CEST
TZOFFSETFROM:+0100
TZOFFSETTO:+0200
DTSTART:19440403T020000
RRULE:FREQ=YEARLY;UNTIL=19450402T010000Z;BYMONTH=4;BYDAY=1MO
END:DAYLIGHT
BEGIN:DAYLIGHT
TZNAME:CEMT
TZOFFSETFROM:+0200
TZOFFSETTO:+0300
DTSTART:19450524T020000
RDATE:19470511T030000
END:DAYLIGHT
BEGIN:DAYLIGHT
TZNAME:CEST
TZOFFSETFROM:+0300
TZOFFSETTO:+0200
DTSTART:19450924T030000
RDATE:19470629T030000
END:DAYLIGHT
BEGIN:STANDARD
TZNAME:CET
TZOFFSETFROM:+0100
TZOFFSETTO:+0100
DTSTART:19460101T000000
RDATE:19800101T000000
END:STANDARD
BEGIN:STANDARD
TZNAME:CET
TZOFFSETFROM:+0200
TZOFFSETTO:+0100
DTSTART:19471005T030000
RRULE:FREQ=YEARLY;UNTIL=19491002T010000Z;BYMONTH=10;BYDAY=1SU
END:STANDARD
BEGIN:STANDARD
TZNAME:CET
TZOFFSETFROM:+0200
TZOFFSETTO:+0100
DTSTART:19800928T030000
RRULE:FREQ=YEARLY;UNTIL=19950924T010000Z;BYMONTH=9;BYDAY=-1SU
END:STANDARD
BEGIN:DAYLIGHT
TZNAME:CEST
TZOFFSETFROM:+0100
TZOFFSETTO:+0200
DTSTART:19810329T020000
RRULE:FREQ=YEARLY;BYMONTH=3;BYDAY=-1SU
END:DAYLIGHT
BEGIN:STANDARD
TZNAME:CET
TZOFFSETFROM:+0200
TZOFFSETTO:+0100
DTSTART:19961027T030000
RRULE:FREQ=YEARLY;BYMONTH=10;BYDAY=-1SU
END:STANDARD
END:VTIMEZONE
BEGIN:VEVENT
DTSTAMP:20260425T171941Z
DTSTART;TZID=Europe/Berlin:20241208T110000
DTEND;TZID=Europe/Berlin:20241208T130000
SUMMARY:Weihnachtsmärchen 2024 - Der Froschkönig
CREATED:20241029T141628Z
LAST-MODIFIED:20241029T141653Z
DESCRIPTION:Wer kennt sie nicht\, die Märchen der Brüder Grimm\, die die 
 ganze Welt erobert haben!\n\nWir zeigen Ihnen den Froschkönig in einer g
 anz besonderen Inszenierung.\n\nSie wissen ja: Siebenmal drehen und scho
 n sind Sie im Märchenwald!\n\nDieses Mal treffen wir dort auf Hüpfer\, e
 inen ganz besonderen Frosch\, und seine Freunde. Auf eine ziemlich verwö
 hnte und garstige Prinzessin\, die ihre goldene Kugel in einem tiefen Br
 unnen verliert. Und dafür\, dass Hüpfer ihr die Kugel wieder zurückbring
 t\, verspricht sie ihm so Einiges. Als er aber auf dem Schloss vor der T
 ür steht\, will sie ihr  Versprechen plötzlich nicht mehr halten. Doch H
 üpfer ist fest entschlossen\, dass er bekommt\, was man ihm versprochen 
 hat.\n\nOb ihm das wohl gelingen wird? Lassen Sie sich überraschen.\n\nD
 ie Volksbühne Bad Emstal wünscht viel Spaß im Märchenwald!\n\n\n\n\n* Ei
 nlass: 1 Stunde vor Beginn der Veranstaltung *\n\n\n\n\n\nKartenbestellu
 ngen und -anfragen:\nTel. 05625/922106\n\nKartenverkaufsbüro:\nVereinsha
 us der Volksbühne\, Burgstraße\, 34308 Bad Emstal-Balhorn\n\nE-Mail:\nka
 rtenbestellung@volksbuehne-bademstal.de\n\nInternet:\nwww.volksbuehne-ba
 demstal.de
LOCATION:Haus des Gastes
X-LOCATION-NAME:Haus des Gastes
X-STREET-ADDRESS:Hattenhäuser Weg 10 - 12
X-POSTAL-CODE:34311
X-LOCALITY:Naumburg
ORGANIZER;CN="Volksbühne Bad Emstal":mailto:kartenbestellung@volksbuehne-
 bademstal.de
X-ORGANIZER-NAME:Volksbühne Bad Emstal 
X-ORGANIZER-EMAIL:kartenbestellung@volksbuehne-bademstal.de
X-ORGANIZER-TELEPHONE:05625 922106
X-IONAS-CATEGORY:Weihnachtsmärchen
CATEGORIES:Weihnachtsmärchen
ATTACH;FMTTYPE=image/jpeg:https://www.naumburg.eu/kalender/2024/dezember/
 2024-12-08-weihnachtsmaerchen-2024-der-froschkoenig/froschkoenig.jpg?cid
 =63w.1g1g
UID:1a6adbb4-8bf4-47d1-9570-6757132830f7
END:VEVENT
END:VCALENDAR
